BEGIN:VCALENDAR
VERSION:2.0
PRODID:-//jEvents 2.0 for Joomla//EN
CALSCALE:GREGORIAN
METHOD:PUBLISH
BEGIN:VTIMEZONE
TZID:Europe/Berlin
BEGIN:STANDARD
DTSTART:20241027T020000
RDATE:20250330T030000
TZOFFSETFROM:+0200
TZOFFSETTO:+0100
TZNAME:Europe/Berlin CET
END:STANDARD
BEGIN:STANDARD
DTSTART:20251026T020000
RDATE:20260329T030000
TZOFFSETFROM:+0200
TZOFFSETTO:+0100
TZNAME:Europe/Berlin CET
END:STANDARD
BEGIN:STANDARD
DTSTART:20261025T020000
RDATE:20270328T030000
TZOFFSETFROM:+0200
TZOFFSETTO:+0100
TZNAME:Europe/Berlin CET
END:STANDARD
BEGIN:STANDARD
DTSTART:20271031T020000
RDATE:20280326T030000
TZOFFSETFROM:+0200
TZOFFSETTO:+0100
TZNAME:Europe/Berlin CET
END:STANDARD
BEGIN:STANDARD
DTSTART:20281029T020000
RDATE:20290325T030000
TZOFFSETFROM:+0200
TZOFFSETTO:+0100
TZNAME:Europe/Berlin CET
END:STANDARD
BEGIN:STANDARD
DTSTART:20291028T020000
RDATE:20300331T030000
TZOFFSETFROM:+0200
TZOFFSETTO:+0100
TZNAME:Europe/Berlin CET
END:STANDARD
BEGIN:STANDARD
DTSTART:20301027T020000
RDATE:20310330T030000
TZOFFSETFROM:+0200
TZOFFSETTO:+0100
TZNAME:Europe/Berlin CET
END:STANDARD
BEGIN:DAYLIGHT
DTSTART:20240819T190000
RDATE:20241027T020000
TZOFFSETFROM:+0100
TZOFFSETTO:+0200
TZNAME:Europe/Berlin CEST
END:DAYLIGHT
BEGIN:DAYLIGHT
DTSTART:20250330T030000
RDATE:20251026T020000
TZOFFSETFROM:+0100
TZOFFSETTO:+0200
TZNAME:Europe/Berlin CEST
END:DAYLIGHT
BEGIN:DAYLIGHT
DTSTART:20260329T030000
RDATE:20261025T020000
TZOFFSETFROM:+0100
TZOFFSETTO:+0200
TZNAME:Europe/Berlin CEST
END:DAYLIGHT
BEGIN:DAYLIGHT
DTSTART:20270328T030000
RDATE:20271031T020000
TZOFFSETFROM:+0100
TZOFFSETTO:+0200
TZNAME:Europe/Berlin CEST
END:DAYLIGHT
BEGIN:DAYLIGHT
DTSTART:20280326T030000
RDATE:20281029T020000
TZOFFSETFROM:+0100
TZOFFSETTO:+0200
TZNAME:Europe/Berlin CEST
END:DAYLIGHT
BEGIN:DAYLIGHT
DTSTART:20290325T030000
RDATE:20291028T020000
TZOFFSETFROM:+0100
TZOFFSETTO:+0200
TZNAME:Europe/Berlin CEST
END:DAYLIGHT
BEGIN:DAYLIGHT
DTSTART:20300331T030000
RDATE:20301027T020000
TZOFFSETFROM:+0100
TZOFFSETTO:+0200
TZNAME:Europe/Berlin CEST
END:DAYLIGHT
END:VTIMEZONE
BEGIN:VEVENT
UID:d05ea2b159658ff44df653f14b779681
CATEGORIES:Sportabzeichen Schw
CREATED:20250211T181122
SUMMARY:Schwimmabnahme
DESCRIPTION:Zur Teilnahme meldet euch bitte 24 Std. vor Terminbeginn an.\nAnmelden könn
 t ihr euch unter Diese E-Mail-Adresse ist vor Spambots geschützt! Zur Anzei
 ge muss JavaScript eingeschaltet sein!
				document.getElementById('cloakb2
 5ab90c90fae9efd932aff851a38616').innerHTML = '';
				var prefix = '&#109;a'
  + 'i&#108;' + '&#116;o';
				var path = 'hr' + 'ef' + '=';
				var addyb25
 ab90c90fae9efd932aff851a38616 = 'sp&#111;rt&#97;bz&#101;&#105;ch&#101;n' + 
 '&#64;';
				addyb25ab90c90fae9efd932aff851a38616 = addyb25ab90c90fae9efd93
 2aff851a38616 + 'sp&#111;rtj&#111;ngl&#101;&#117;r&#101;' + '&#46;' + 'd&#1
 01;';
				var addy_textb25ab90c90fae9efd932aff851a38616 = 'sp&#111;rt&#97;b
 z&#101;&#105;ch&#101;n' + '&#64;' + 'sp&#111;rtj&#111;ngl&#101;&#117;r&#101
 ;' + '&#46;' + 'd&#101;';document.getElementById('cloakb25ab90c90fae9efd932
 aff851a38616').innerHTML += '<a ' + path + '\'' + prefix + ':' + addyb25ab9
 0c90fae9efd932aff851a38616 + '\'>'+addy_textb25ab90c90fae9efd932aff851a3861
 6+'';
		 oder direkt beim Prüfer.\nOrt: BADUE\nPrüfer: Burkhard\n
X-ALT-DESC;FMTTYPE=text/html:<p>Zur Teilnahme meldet euch bitte 24 Std. vor Terminbeginn an.<br />Anmeld
 en könnt ihr euch unter <span id="cloakb25ab90c90fae9efd932aff851a38616">Di
 ese E-Mail-Adresse ist vor Spambots geschützt! Zur Anzeige muss JavaScript 
 eingeschaltet sein!</span><script type='text/javascript'>
				document.getE
 lementById('cloakb25ab90c90fae9efd932aff851a38616').innerHTML = '';
				var
  prefix = '&#109;a' + 'i&#108;' + '&#116;o';
				var path = 'hr' + 'ef' + '
 =';
				var addyb25ab90c90fae9efd932aff851a38616 = 'sp&#111;rt&#97;bz&#101;
 &#105;ch&#101;n' + '&#64;';
				addyb25ab90c90fae9efd932aff851a38616 = addy
 b25ab90c90fae9efd932aff851a38616 + 'sp&#111;rtj&#111;ngl&#101;&#117;r&#101;
 ' + '&#46;' + 'd&#101;';
				var addy_textb25ab90c90fae9efd932aff851a38616 
 = 'sp&#111;rt&#97;bz&#101;&#105;ch&#101;n' + '&#64;' + 'sp&#111;rtj&#111;ng
 l&#101;&#117;r&#101;' + '&#46;' + 'd&#101;';document.getElementById('cloakb
 25ab90c90fae9efd932aff851a38616').innerHTML += '<a ' + path + '\'' + prefix
  + ':' + addyb25ab90c90fae9efd932aff851a38616 + '\'>'+addy_textb25ab90c90fa
 e9efd932aff851a38616+'<\/a>';
		</script>&nbsp;oder direkt beim Prüfer.</p>
 <p>Ort: BADUE<br />Prüfer: Burkhard</p>
DTSTAMP:20260423T144935
DTSTART;TZID=Europe/Berlin:20250820T190000
SEQUENCE:0
TRANSP:OPAQUE
END:VEVENT
END:VCALENDAR