BEGIN:VCALENDAR
VERSION:2.0
PRODID:-//jEvents 2.0 for Joomla//EN
CALSCALE:GREGORIAN
METHOD:PUBLISH
BEGIN:VTIMEZONE
TZID:Europe/Berlin
BEGIN:STANDARD
DTSTART:20251026T020000
RDATE:20260329T030000
TZOFFSETFROM:+0200
TZOFFSETTO:+0100
TZNAME:Europe/Berlin CET
END:STANDARD
BEGIN:STANDARD
DTSTART:20261025T020000
RDATE:20270328T030000
TZOFFSETFROM:+0200
TZOFFSETTO:+0100
TZNAME:Europe/Berlin CET
END:STANDARD
BEGIN:STANDARD
DTSTART:20271031T020000
RDATE:20280326T030000
TZOFFSETFROM:+0200
TZOFFSETTO:+0100
TZNAME:Europe/Berlin CET
END:STANDARD
BEGIN:STANDARD
DTSTART:20281029T020000
RDATE:20290325T030000
TZOFFSETFROM:+0200
TZOFFSETTO:+0100
TZNAME:Europe/Berlin CET
END:STANDARD
BEGIN:STANDARD
DTSTART:20291028T020000
RDATE:20300331T030000
TZOFFSETFROM:+0200
TZOFFSETTO:+0100
TZNAME:Europe/Berlin CET
END:STANDARD
BEGIN:STANDARD
DTSTART:20301027T020000
RDATE:20310330T030000
TZOFFSETFROM:+0200
TZOFFSETTO:+0100
TZNAME:Europe/Berlin CET
END:STANDARD
BEGIN:DAYLIGHT
DTSTART:20250527T183000
RDATE:20251026T020000
TZOFFSETFROM:+0100
TZOFFSETTO:+0200
TZNAME:Europe/Berlin CEST
END:DAYLIGHT
BEGIN:DAYLIGHT
DTSTART:20260329T030000
RDATE:20261025T020000
TZOFFSETFROM:+0100
TZOFFSETTO:+0200
TZNAME:Europe/Berlin CEST
END:DAYLIGHT
BEGIN:DAYLIGHT
DTSTART:20270328T030000
RDATE:20271031T020000
TZOFFSETFROM:+0100
TZOFFSETTO:+0200
TZNAME:Europe/Berlin CEST
END:DAYLIGHT
BEGIN:DAYLIGHT
DTSTART:20280326T030000
RDATE:20281029T020000
TZOFFSETFROM:+0100
TZOFFSETTO:+0200
TZNAME:Europe/Berlin CEST
END:DAYLIGHT
BEGIN:DAYLIGHT
DTSTART:20290325T030000
RDATE:20291028T020000
TZOFFSETFROM:+0100
TZOFFSETTO:+0200
TZNAME:Europe/Berlin CEST
END:DAYLIGHT
BEGIN:DAYLIGHT
DTSTART:20300331T030000
RDATE:20301027T020000
TZOFFSETFROM:+0100
TZOFFSETTO:+0200
TZNAME:Europe/Berlin CEST
END:DAYLIGHT
END:VTIMEZONE
BEGIN:VEVENT
UID:dac6bedb1f17cb2f5ba258bb18c049c4
CATEGORIES:Auftritte
CREATED:20260419T131949
SUMMARY:Jonglierauftritt
DESCRIPTION:Hallo Jongleure,\nwir treten auf:\n am Donnerstag, 28. Mai, um 18:30 Uhr \n
 anläßlich einer Veranstaltung in der Jod-Sole-Therme in Bad Bevensen.\n Bei
  gutem Wetter findet die Veranstaltung im freien statt, bei schlechtem Wett
 er im Innenbereich der Therme.\n Für den Zugang sind saubere Sportschuhe er
 forderlich. \nStellenweise kann der Boden feucht sein.\nVG, Heinz\n
X-ALT-DESC;FMTTYPE=text/html:<p>Hallo Jongleure,</p><p>wir treten auf:<br /> am Donnerstag, 28. Mai, um 
 18:30 Uhr <br />anläßlich einer Veranstaltung in der Jod-Sole-Therme in Bad
  Bevensen.<br /> Bei gutem Wetter findet die Veranstaltung im freien statt,
  bei schlechtem Wetter im Innenbereich der Therme.<br /> Für den Zugang sin
 d saubere Sportschuhe erforderlich. <br />Stellenweise kann der Boden feuch
 t sein.</p><p>VG, Heinz</p>
DTSTAMP:20260419T195844
DTSTART;TZID=Europe/Berlin:20260528T183000
SEQUENCE:0
TRANSP:OPAQUE
END:VEVENT
END:VCALENDAR