BEGIN:VCALENDAR
VERSION:2.0
PRODID:-//jEvents 2.0 for Joomla//EN
CALSCALE:GREGORIAN
METHOD:PUBLISH
BEGIN:VTIMEZONE
TZID:Europe/Berlin
BEGIN:STANDARD
DTSTART:20241027T020000
RDATE:20250330T030000
TZOFFSETFROM:+0200
TZOFFSETTO:+0100
TZNAME:Europe/Berlin CET
END:STANDARD
BEGIN:STANDARD
DTSTART:20251026T020000
RDATE:20260329T030000
TZOFFSETFROM:+0200
TZOFFSETTO:+0100
TZNAME:Europe/Berlin CET
END:STANDARD
BEGIN:STANDARD
DTSTART:20261025T020000
RDATE:20270328T030000
TZOFFSETFROM:+0200
TZOFFSETTO:+0100
TZNAME:Europe/Berlin CET
END:STANDARD
BEGIN:STANDARD
DTSTART:20271031T020000
RDATE:20280326T030000
TZOFFSETFROM:+0200
TZOFFSETTO:+0100
TZNAME:Europe/Berlin CET
END:STANDARD
BEGIN:STANDARD
DTSTART:20281029T020000
RDATE:20290325T030000
TZOFFSETFROM:+0200
TZOFFSETTO:+0100
TZNAME:Europe/Berlin CET
END:STANDARD
BEGIN:STANDARD
DTSTART:20291028T020000
RDATE:20300331T030000
TZOFFSETFROM:+0200
TZOFFSETTO:+0100
TZNAME:Europe/Berlin CET
END:STANDARD
BEGIN:STANDARD
DTSTART:20301027T020000
RDATE:20310330T030000
TZOFFSETFROM:+0200
TZOFFSETTO:+0100
TZNAME:Europe/Berlin CET
END:STANDARD
BEGIN:DAYLIGHT
DTSTART:20240815T101500
RDATE:20241027T020000
TZOFFSETFROM:+0100
TZOFFSETTO:+0200
TZNAME:Europe/Berlin CEST
END:DAYLIGHT
BEGIN:DAYLIGHT
DTSTART:20250330T030000
RDATE:20251026T020000
TZOFFSETFROM:+0100
TZOFFSETTO:+0200
TZNAME:Europe/Berlin CEST
END:DAYLIGHT
BEGIN:DAYLIGHT
DTSTART:20260329T030000
RDATE:20261025T020000
TZOFFSETFROM:+0100
TZOFFSETTO:+0200
TZNAME:Europe/Berlin CEST
END:DAYLIGHT
BEGIN:DAYLIGHT
DTSTART:20270328T030000
RDATE:20271031T020000
TZOFFSETFROM:+0100
TZOFFSETTO:+0200
TZNAME:Europe/Berlin CEST
END:DAYLIGHT
BEGIN:DAYLIGHT
DTSTART:20280326T030000
RDATE:20281029T020000
TZOFFSETFROM:+0100
TZOFFSETTO:+0200
TZNAME:Europe/Berlin CEST
END:DAYLIGHT
BEGIN:DAYLIGHT
DTSTART:20290325T030000
RDATE:20291028T020000
TZOFFSETFROM:+0100
TZOFFSETTO:+0200
TZNAME:Europe/Berlin CEST
END:DAYLIGHT
BEGIN:DAYLIGHT
DTSTART:20300331T030000
RDATE:20301027T020000
TZOFFSETFROM:+0100
TZOFFSETTO:+0200
TZNAME:Europe/Berlin CEST
END:DAYLIGHT
END:VTIMEZONE
BEGIN:VEVENT
UID:2ef6599698ef6a29bd30df683449dc45
CATEGORIES:Jongleure
CREATED:20250813T163025
SUMMARY:Einradtour
DESCRIPTION:<p>Da die Samstags-Übungsgruppe ausfällt, wollen wir den Samstag Vormittag 
 für eine Einradtour nutzen. Selbstverständlich sind auch Einradfahrer:innen
  aus allen anderen Gruppen herzlich eingeladen dabei zu sein!<br />Um Anmel
 dung bis 24 Stunden vorher bei Friederike (<span id="cloaka31a2f05c37452d1a
 8fb1256b36c91bb">Diese E-Mail-Adresse ist vor Spambots geschützt! Zur Anzei
 ge muss JavaScript eingeschaltet sein!</span><script type='text/javascript'
 >
				document.getElementById('cloaka31a2f05c37452d1a8fb1256b36c91bb').inne
 rHTML = '';
				var prefix = '&#109;a' + 'i&#108;' + '&#116;o';
				var pat
 h = 'hr' + 'ef' + '=';
				var addya31a2f05c37452d1a8fb1256b36c91bb = 'fr&#
 105;&#101;d&#101;r&#105;k&#101;.kr&#97;&#97;z' + '&#64;';
				addya31a2f05c
 37452d1a8fb1256b36c91bb = addya31a2f05c37452d1a8fb1256b36c91bb + 'sp&#111;r
 tj&#111;ngl&#101;&#117;r&#101;' + '&#46;' + 'd&#101;';
				var addy_texta31
 a2f05c37452d1a8fb1256b36c91bb = 'fr&#105;&#101;d&#101;r&#105;k&#101;.kr&#97
 ;&#97;z' + '&#64;' + 'sp&#111;rtj&#111;ngl&#101;&#117;r&#101;' + '&#46;' + 
 'd&#101;';document.getElementById('cloaka31a2f05c37452d1a8fb1256b36c91bb').
 innerHTML += '<a ' + path + '\'' + prefix + ':' + addya31a2f05c37452d1a8fb1
 256b36c91bb + '\'>'+addy_texta31a2f05c37452d1a8fb1256b36c91bb+'<\/a>';
		</
 script>) wird gebeten.</p><p>Ort: Treffpunkt ist der Oldenstädter See - Par
 kplatz am Kiosk</p><p>Voraussetzung: sicheres Fahren auf dem Einrad.</p><p>
 Mitbringen: Aufgepumptes Einrad, Trinken, Helm, ggf. Fahrradhandschuhe und 
 Knieschoner.</p>
DTSTAMP:20260424T054906
DTSTART;TZID=Europe/Berlin:20250816T101500
DTEND;TZID=Europe/Berlin:20250816T114500
SEQUENCE:0
TRANSP:OPAQUE
END:VEVENT
END:VCALENDAR