BEGIN:VCALENDAR
VERSION:2.0
PRODID:-//jEvents 2.0 for Joomla//EN
CALSCALE:GREGORIAN
METHOD:PUBLISH
BEGIN:VTIMEZONE
TZID:Europe/Berlin
BEGIN:STANDARD
DTSTART:20231029T020000
RDATE:20240331T030000
TZOFFSETFROM:+0200
TZOFFSETTO:+0100
TZNAME:Europe/Berlin CET
END:STANDARD
BEGIN:STANDARD
DTSTART:20241027T020000
RDATE:20250330T030000
TZOFFSETFROM:+0200
TZOFFSETTO:+0100
TZNAME:Europe/Berlin CET
END:STANDARD
BEGIN:STANDARD
DTSTART:20251026T020000
RDATE:20260329T030000
TZOFFSETFROM:+0200
TZOFFSETTO:+0100
TZNAME:Europe/Berlin CET
END:STANDARD
BEGIN:STANDARD
DTSTART:20261025T020000
RDATE:20270328T030000
TZOFFSETFROM:+0200
TZOFFSETTO:+0100
TZNAME:Europe/Berlin CET
END:STANDARD
BEGIN:STANDARD
DTSTART:20271031T020000
RDATE:20280326T030000
TZOFFSETFROM:+0200
TZOFFSETTO:+0100
TZNAME:Europe/Berlin CET
END:STANDARD
BEGIN:STANDARD
DTSTART:20281029T020000
RDATE:20290325T030000
TZOFFSETFROM:+0200
TZOFFSETTO:+0100
TZNAME:Europe/Berlin CET
END:STANDARD
BEGIN:STANDARD
DTSTART:20291028T020000
RDATE:20300331T030000
TZOFFSETFROM:+0200
TZOFFSETTO:+0100
TZNAME:Europe/Berlin CET
END:STANDARD
BEGIN:STANDARD
DTSTART:20301027T020000
RDATE:20310330T030000
TZOFFSETFROM:+0200
TZOFFSETTO:+0100
TZNAME:Europe/Berlin CET
END:STANDARD
BEGIN:DAYLIGHT
DTSTART:20230817T000000
RDATE:20231029T020000
TZOFFSETFROM:+0100
TZOFFSETTO:+0200
TZNAME:Europe/Berlin CEST
END:DAYLIGHT
BEGIN:DAYLIGHT
DTSTART:20240331T030000
RDATE:20241027T020000
TZOFFSETFROM:+0100
TZOFFSETTO:+0200
TZNAME:Europe/Berlin CEST
END:DAYLIGHT
BEGIN:DAYLIGHT
DTSTART:20250330T030000
RDATE:20251026T020000
TZOFFSETFROM:+0100
TZOFFSETTO:+0200
TZNAME:Europe/Berlin CEST
END:DAYLIGHT
BEGIN:DAYLIGHT
DTSTART:20260329T030000
RDATE:20261025T020000
TZOFFSETFROM:+0100
TZOFFSETTO:+0200
TZNAME:Europe/Berlin CEST
END:DAYLIGHT
BEGIN:DAYLIGHT
DTSTART:20270328T030000
RDATE:20271031T020000
TZOFFSETFROM:+0100
TZOFFSETTO:+0200
TZNAME:Europe/Berlin CEST
END:DAYLIGHT
BEGIN:DAYLIGHT
DTSTART:20280326T030000
RDATE:20281029T020000
TZOFFSETFROM:+0100
TZOFFSETTO:+0200
TZNAME:Europe/Berlin CEST
END:DAYLIGHT
BEGIN:DAYLIGHT
DTSTART:20290325T030000
RDATE:20291028T020000
TZOFFSETFROM:+0100
TZOFFSETTO:+0200
TZNAME:Europe/Berlin CEST
END:DAYLIGHT
BEGIN:DAYLIGHT
DTSTART:20300331T030000
RDATE:20301027T020000
TZOFFSETFROM:+0100
TZOFFSETTO:+0200
TZNAME:Europe/Berlin CEST
END:DAYLIGHT
END:VTIMEZONE
BEGIN:VEVENT
UID:92729f4d971ec88b66cdb0d6fa90bdd7
CATEGORIES:Sonstiges
CREATED:20240317T103858
SUMMARY:Einradtag in Zeven
LOCATION:: Zeven
DESCRIPTION:Die Einradfahrer/-innen des Kinder- &amp;Jugendhaus Zeven laden in diesem J
 ahr anlässlich ihres 20-jährigen Jubiläums zu einem Einrad-Tag ein.\n Es wi
 rd ein vielfältiges Workshop- Angebot und am Abend eine Show/ Competition g
 eben.\nWir wollen mit einer Gruppe der Sport Jongleure zu dieser Veranstalt
 ung hinfahren.\n Also unbedingt den Termin schonmal vormerken!\nWeitere Inf
 os folgen dann später.\n Ansprechpartnerin bei Fragen: Friederike Kraaz\n
X-ALT-DESC;FMTTYPE=text/html:<p>Die Einradfahrer/-innen des Kinder- &amp;Jugendhaus Zeven laden in diese
 m Jahr anlässlich ihres 20-jährigen Jubiläums zu einem Einrad-Tag ein.<br /
 > Es wird ein vielfältiges Workshop- Angebot und am Abend eine Show/ Compet
 ition geben.</p><p>Wir wollen mit einer Gruppe der Sport Jongleure zu diese
 r Veranstaltung hinfahren.<br /> Also unbedingt den Termin schonmal vormerk
 en!</p><p>Weitere Infos folgen dann später.<br /> Ansprechpartnerin bei Fra
 gen: Friederike Kraaz</p>
DTSTAMP:20260420T111302
DTSTART;TZID=Europe/Berlin;VALUE=DATE:20240817
DTEND;TZID=Europe/Berlin;VALUE=DATE:20240818
SEQUENCE:0
TRANSP:OPAQUE
END:VEVENT
END:VCALENDAR