BEGIN:VCALENDAR
VERSION:2.0
PRODID:-//jEvents 2.0 for Joomla//EN
CALSCALE:GREGORIAN
METHOD:PUBLISH
BEGIN:VTIMEZONE
TZID:Europe/Berlin
BEGIN:STANDARD
DTSTART:20161030T020000
RDATE:20170326T030000
TZOFFSETFROM:+0200
TZOFFSETTO:+0100
TZNAME:Europe/Berlin CET
END:STANDARD
BEGIN:STANDARD
DTSTART:20171029T020000
RDATE:20180325T030000
TZOFFSETFROM:+0200
TZOFFSETTO:+0100
TZNAME:Europe/Berlin CET
END:STANDARD
BEGIN:STANDARD
DTSTART:20181028T020000
RDATE:20190331T030000
TZOFFSETFROM:+0200
TZOFFSETTO:+0100
TZNAME:Europe/Berlin CET
END:STANDARD
BEGIN:STANDARD
DTSTART:20191027T020000
RDATE:20200329T030000
TZOFFSETFROM:+0200
TZOFFSETTO:+0100
TZNAME:Europe/Berlin CET
END:STANDARD
BEGIN:STANDARD
DTSTART:20201025T020000
RDATE:20210328T030000
TZOFFSETFROM:+0200
TZOFFSETTO:+0100
TZNAME:Europe/Berlin CET
END:STANDARD
BEGIN:STANDARD
DTSTART:20211031T020000
RDATE:20220327T030000
TZOFFSETFROM:+0200
TZOFFSETTO:+0100
TZNAME:Europe/Berlin CET
END:STANDARD
BEGIN:STANDARD
DTSTART:20221030T020000
RDATE:20230326T030000
TZOFFSETFROM:+0200
TZOFFSETTO:+0100
TZNAME:Europe/Berlin CET
END:STANDARD
BEGIN:STANDARD
DTSTART:20231029T020000
RDATE:20240331T030000
TZOFFSETFROM:+0200
TZOFFSETTO:+0100
TZNAME:Europe/Berlin CET
END:STANDARD
BEGIN:STANDARD
DTSTART:20241027T020000
RDATE:20250330T030000
TZOFFSETFROM:+0200
TZOFFSETTO:+0100
TZNAME:Europe/Berlin CET
END:STANDARD
BEGIN:STANDARD
DTSTART:20251026T020000
RDATE:20260329T030000
TZOFFSETFROM:+0200
TZOFFSETTO:+0100
TZNAME:Europe/Berlin CET
END:STANDARD
BEGIN:STANDARD
DTSTART:20261025T020000
RDATE:20270328T030000
TZOFFSETFROM:+0200
TZOFFSETTO:+0100
TZNAME:Europe/Berlin CET
END:STANDARD
BEGIN:STANDARD
DTSTART:20271031T020000
RDATE:20280326T030000
TZOFFSETFROM:+0200
TZOFFSETTO:+0100
TZNAME:Europe/Berlin CET
END:STANDARD
BEGIN:STANDARD
DTSTART:20281029T020000
RDATE:20290325T030000
TZOFFSETFROM:+0200
TZOFFSETTO:+0100
TZNAME:Europe/Berlin CET
END:STANDARD
BEGIN:STANDARD
DTSTART:20291028T020000
RDATE:20300331T030000
TZOFFSETFROM:+0200
TZOFFSETTO:+0100
TZNAME:Europe/Berlin CET
END:STANDARD
BEGIN:STANDARD
DTSTART:20301027T020000
RDATE:20310330T030000
TZOFFSETFROM:+0200
TZOFFSETTO:+0100
TZNAME:Europe/Berlin CET
END:STANDARD
BEGIN:DAYLIGHT
DTSTART:20160525T000000
RDATE:20161030T020000
TZOFFSETFROM:+0100
TZOFFSETTO:+0200
TZNAME:Europe/Berlin CEST
END:DAYLIGHT
BEGIN:DAYLIGHT
DTSTART:20170326T030000
RDATE:20171029T020000
TZOFFSETFROM:+0100
TZOFFSETTO:+0200
TZNAME:Europe/Berlin CEST
END:DAYLIGHT
BEGIN:DAYLIGHT
DTSTART:20180325T030000
RDATE:20181028T020000
TZOFFSETFROM:+0100
TZOFFSETTO:+0200
TZNAME:Europe/Berlin CEST
END:DAYLIGHT
BEGIN:DAYLIGHT
DTSTART:20190331T030000
RDATE:20191027T020000
TZOFFSETFROM:+0100
TZOFFSETTO:+0200
TZNAME:Europe/Berlin CEST
END:DAYLIGHT
BEGIN:DAYLIGHT
DTSTART:20200329T030000
RDATE:20201025T020000
TZOFFSETFROM:+0100
TZOFFSETTO:+0200
TZNAME:Europe/Berlin CEST
END:DAYLIGHT
BEGIN:DAYLIGHT
DTSTART:20210328T030000
RDATE:20211031T020000
TZOFFSETFROM:+0100
TZOFFSETTO:+0200
TZNAME:Europe/Berlin CEST
END:DAYLIGHT
BEGIN:DAYLIGHT
DTSTART:20220327T030000
RDATE:20221030T020000
TZOFFSETFROM:+0100
TZOFFSETTO:+0200
TZNAME:Europe/Berlin CEST
END:DAYLIGHT
BEGIN:DAYLIGHT
DTSTART:20230326T030000
RDATE:20231029T020000
TZOFFSETFROM:+0100
TZOFFSETTO:+0200
TZNAME:Europe/Berlin CEST
END:DAYLIGHT
BEGIN:DAYLIGHT
DTSTART:20240331T030000
RDATE:20241027T020000
TZOFFSETFROM:+0100
TZOFFSETTO:+0200
TZNAME:Europe/Berlin CEST
END:DAYLIGHT
BEGIN:DAYLIGHT
DTSTART:20250330T030000
RDATE:20251026T020000
TZOFFSETFROM:+0100
TZOFFSETTO:+0200
TZNAME:Europe/Berlin CEST
END:DAYLIGHT
BEGIN:DAYLIGHT
DTSTART:20260329T030000
RDATE:20261025T020000
TZOFFSETFROM:+0100
TZOFFSETTO:+0200
TZNAME:Europe/Berlin CEST
END:DAYLIGHT
BEGIN:DAYLIGHT
DTSTART:20270328T030000
RDATE:20271031T020000
TZOFFSETFROM:+0100
TZOFFSETTO:+0200
TZNAME:Europe/Berlin CEST
END:DAYLIGHT
BEGIN:DAYLIGHT
DTSTART:20280326T030000
RDATE:20281029T020000
TZOFFSETFROM:+0100
TZOFFSETTO:+0200
TZNAME:Europe/Berlin CEST
END:DAYLIGHT
BEGIN:DAYLIGHT
DTSTART:20290325T030000
RDATE:20291028T020000
TZOFFSETFROM:+0100
TZOFFSETTO:+0200
TZNAME:Europe/Berlin CEST
END:DAYLIGHT
BEGIN:DAYLIGHT
DTSTART:20300331T030000
RDATE:20301027T020000
TZOFFSETFROM:+0100
TZOFFSETTO:+0200
TZNAME:Europe/Berlin CEST
END:DAYLIGHT
END:VTIMEZONE
BEGIN:VEVENT
UID:b6b49e83f58018447d5a9a7461aab326
CATEGORIES:Feuershow
CREATED:20170203T214947
SUMMARY:Feuer- und Leuchtjongliershow in Ebstorf
LOCATION:Ebstorf
DESCRIPTION:\n - Termin zum vormerken   ..........   Eine für Ebstorf neue Veranstaltun
 g wird es im Rahmen "Ebstorf 1200 Jahre jung" im Mai 2017 geben. Ein Festwo
 chenende am 26./27. Mai 2017 ist angelehnt an die "Kleinen Feste im großen 
 Garten" und findet unter dem Motto "A walk in the park" unter anderem im Do
 mänenpark Ebstorf statt.\nEin Familienfest, das in der besonderen Atmosphär
 e und mit einem hervorragenden Programm ein ganz außerordentliches Erlebnis
  verspricht. Viele Akteure, bekannte und unbekannte, bereichern das Veranst
 altungsjahr durch viele Aktionen.\n\n -  Auch die Sport Jongleure gehören m
 it ihrer Feuer- und Leuchtjongliershow zu den KünstlernQuelle: www.1200-ebs
 torf.de/index.html  (http://www.1200-ebstorf.de/index.html)\n Weitere Infor
 mationen zu 1200 Jahre Ebstorf: www.urlaubsregion-ebstorf.de/1200-jahre-ebs
 torf-der-klosterflecken-feiert-das-jahr-2017/ (http://www.urlaubsregion-ebs
 torf.de/1200-jahre-ebstorf-der-klosterflecken-feiert-das-jahr-2017/)\n\n - 
 Weitere Details folgen später  ......... \n
X-ALT-DESC;FMTTYPE=text/html:<ul><li>Termin zum vormerken   ..........   </li></ul><p>Eine für Ebstorf n
 eue Veranstaltung wird es im Rahmen "Ebstorf 1200 Jahre jung" im Mai 2017 g
 eben. Ein Festwochenende am 26./27. Mai 2017 ist angelehnt an die "Kleinen 
 Feste im großen Garten" und findet unter dem Motto "A walk in the park" unt
 er anderem im Domänenpark Ebstorf statt.</p><p>Ein Familienfest, das in der
  besonderen Atmosphäre und mit einem hervorragenden Programm ein ganz außer
 ordentliches Erlebnis verspricht. Viele Akteure, bekannte und unbekannte, b
 ereichern das Veranstaltungsjahr durch viele Aktionen.</p><ul><li><strong> 
 Auch die Sport Jongleure gehören mit ihrer Feuer- und Leuchtjongliershow zu
  den Künstlern</strong></li></ul><p>Quelle: <a href="http://www.1200-ebstor
 f.de/index.html" target="_blank">www.1200-ebstorf.de/index.html </a><br /> 
 Weitere Informationen zu 1200 Jahre Ebstorf: <a href="http://www.urlaubsreg
 ion-ebstorf.de/1200-jahre-ebstorf-der-klosterflecken-feiert-das-jahr-2017/"
  target="_blank">www.urlaubsregion-ebstorf.de/1200-jahre-ebstorf-der-kloste
 rflecken-feiert-das-jahr-2017/</a></p><ul><li>Weitere Details folgen später
   .........</li></ul><p> </p>
DTSTAMP:20260423T085247
DTSTART;TZID=Europe/Berlin;VALUE=DATE:20170526
DTEND;TZID=Europe/Berlin;VALUE=DATE:20170527
SEQUENCE:0
TRANSP:OPAQUE
END:VEVENT
END:VCALENDAR