BEGIN:VCALENDAR
VERSION:2.0
PRODID:-//jEvents 2.0 for Joomla//EN
CALSCALE:GREGORIAN
METHOD:PUBLISH
BEGIN:VTIMEZONE
TZID:Europe/Berlin
BEGIN:STANDARD
DTSTART:20231104T000000
RDATE:20240331T030000
TZOFFSETFROM:+0200
TZOFFSETTO:+0100
TZNAME:Europe/Berlin CET
END:STANDARD
BEGIN:STANDARD
DTSTART:20241027T020000
RDATE:20250330T030000
TZOFFSETFROM:+0200
TZOFFSETTO:+0100
TZNAME:Europe/Berlin CET
END:STANDARD
BEGIN:STANDARD
DTSTART:20251026T020000
RDATE:20260329T030000
TZOFFSETFROM:+0200
TZOFFSETTO:+0100
TZNAME:Europe/Berlin CET
END:STANDARD
BEGIN:STANDARD
DTSTART:20261025T020000
RDATE:20270328T030000
TZOFFSETFROM:+0200
TZOFFSETTO:+0100
TZNAME:Europe/Berlin CET
END:STANDARD
BEGIN:STANDARD
DTSTART:20271031T020000
RDATE:20280326T030000
TZOFFSETFROM:+0200
TZOFFSETTO:+0100
TZNAME:Europe/Berlin CET
END:STANDARD
BEGIN:STANDARD
DTSTART:20281029T020000
RDATE:20290325T030000
TZOFFSETFROM:+0200
TZOFFSETTO:+0100
TZNAME:Europe/Berlin CET
END:STANDARD
BEGIN:STANDARD
DTSTART:20291028T020000
RDATE:20300331T030000
TZOFFSETFROM:+0200
TZOFFSETTO:+0100
TZNAME:Europe/Berlin CET
END:STANDARD
BEGIN:STANDARD
DTSTART:20301027T020000
RDATE:20310330T030000
TZOFFSETFROM:+0200
TZOFFSETTO:+0100
TZNAME:Europe/Berlin CET
END:STANDARD
BEGIN:DAYLIGHT
DTSTART:20240331T030000
RDATE:20241027T020000
TZOFFSETFROM:+0100
TZOFFSETTO:+0200
TZNAME:Europe/Berlin CEST
END:DAYLIGHT
BEGIN:DAYLIGHT
DTSTART:20250330T030000
RDATE:20251026T020000
TZOFFSETFROM:+0100
TZOFFSETTO:+0200
TZNAME:Europe/Berlin CEST
END:DAYLIGHT
BEGIN:DAYLIGHT
DTSTART:20260329T030000
RDATE:20261025T020000
TZOFFSETFROM:+0100
TZOFFSETTO:+0200
TZNAME:Europe/Berlin CEST
END:DAYLIGHT
BEGIN:DAYLIGHT
DTSTART:20270328T030000
RDATE:20271031T020000
TZOFFSETFROM:+0100
TZOFFSETTO:+0200
TZNAME:Europe/Berlin CEST
END:DAYLIGHT
BEGIN:DAYLIGHT
DTSTART:20280326T030000
RDATE:20281029T020000
TZOFFSETFROM:+0100
TZOFFSETTO:+0200
TZNAME:Europe/Berlin CEST
END:DAYLIGHT
BEGIN:DAYLIGHT
DTSTART:20290325T030000
RDATE:20291028T020000
TZOFFSETFROM:+0100
TZOFFSETTO:+0200
TZNAME:Europe/Berlin CEST
END:DAYLIGHT
BEGIN:DAYLIGHT
DTSTART:20300331T030000
RDATE:20301027T020000
TZOFFSETFROM:+0100
TZOFFSETTO:+0200
TZNAME:Europe/Berlin CEST
END:DAYLIGHT
END:VTIMEZONE
BEGIN:VEVENT
UID:3245ef7ef14a5002a0d17f2f5098c04e
CATEGORIES:Jongleure
CREATED:20240504T181633
SUMMARY:Generalprobe für den 16.11.
LOCATION:: Jägerkrug Lintzel\, Birkenstraße 13\, 29565 Lintzel
DESCRIPTION:An diesem Montagabend findet eine Generalprobe der Jongliergruppen für die 
 Auftritte bei unserer Jubiläumsveranstaltung am 16.11. statt.\nBühnenplan f
 ür die Generalprobe:\n•⁠ ⁠Bitte wie beim normalen Auftritt 15 Minuten vor d
 er Bühnenzeit da sein. Bitte seid pünktlich, da die Zeiten straff durchgepl
 ant sind!\n•⁠ ⁠Mitbringen: Jongliersachen und Requisiten, Kostüm, Auftritts
 -Schuhe\n•⁠ ⁠Alle Nicht-Akteure bitten wir nicht mit in den Saal zu kommen,
  damit die Vorführungen am 16.11. eine Überraschung bleiben.\n•⁠ ⁠Ort ist d
 er Jägerkrug Lintzel, Birkenstraße 13, 29565 Wriedel\n•⁠ ⁠Falls die Teilnah
 me an der Generalprobe in Ausnahmefällen nicht möglich ist, bitte rechtzeit
 ig eure Übungsleiter informieren!\nBühnenzeiten:\n18:10 Uhr Freitags-Jongle
 ure aus Suderburg\n18:40 Uhr Samstags-Jongleure aus Uelzen\n19:10 Uhr Monta
 gs-Jongleure aus Gerdau\n
X-ALT-DESC;FMTTYPE=text/html:<p>An diesem Montagabend findet eine Generalprobe der Jongliergruppen für d
 ie Auftritte bei unserer Jubiläumsveranstaltung am 16.11. statt.</p><p><str
 ong>Bühnenplan für die Generalprobe:</strong></p><p>•⁠ ⁠Bitte wie beim norm
 alen Auftritt 15 Minuten vor der Bühnenzeit da sein. Bitte seid pünktlich, 
 da die Zeiten straff durchgeplant sind!<br />•⁠ ⁠Mitbringen: Jongliersachen
  und Requisiten, Kostüm, Auftritts-Schuhe<br />•⁠ ⁠Alle Nicht-Akteure bitte
 n wir nicht mit in den Saal zu kommen, damit die Vorführungen am 16.11. ein
 e Überraschung bleiben.<br />•⁠ ⁠Ort ist der Jägerkrug Lintzel, Birkenstraß
 e 13, 29565 Wriedel<br />•⁠ ⁠Falls die Teilnahme an der Generalprobe in Aus
 nahmefällen nicht möglich ist, bitte rechtzeitig eure Übungsleiter informie
 ren!</p><p>Bühnenzeiten:<br />18:10 Uhr Freitags-Jongleure aus Suderburg<br
  />18:40 Uhr Samstags-Jongleure aus Uelzen<br />19:10 Uhr Montags-Jongleure
  aus Gerdau</p>
DTSTAMP:20260420T021515
DTSTART;TZID=Europe/Berlin;VALUE=DATE:20241104
DTEND;TZID=Europe/Berlin;VALUE=DATE:20241105
SEQUENCE:0
TRANSP:OPAQUE
END:VEVENT
END:VCALENDAR