BEGIN:VCALENDAR
VERSION:2.0
PRODID:-//jEvents 2.0 for Joomla//EN
CALSCALE:GREGORIAN
METHOD:PUBLISH
BEGIN:VTIMEZONE
TZID:Europe/Berlin
BEGIN:STANDARD
DTSTART:20251026T020000
RDATE:20260329T030000
TZOFFSETFROM:+0200
TZOFFSETTO:+0100
TZNAME:Europe/Berlin CET
END:STANDARD
BEGIN:STANDARD
DTSTART:20261025T020000
RDATE:20270328T030000
TZOFFSETFROM:+0200
TZOFFSETTO:+0100
TZNAME:Europe/Berlin CET
END:STANDARD
BEGIN:STANDARD
DTSTART:20271031T020000
RDATE:20280326T030000
TZOFFSETFROM:+0200
TZOFFSETTO:+0100
TZNAME:Europe/Berlin CET
END:STANDARD
BEGIN:STANDARD
DTSTART:20281029T020000
RDATE:20290325T030000
TZOFFSETFROM:+0200
TZOFFSETTO:+0100
TZNAME:Europe/Berlin CET
END:STANDARD
BEGIN:STANDARD
DTSTART:20291028T020000
RDATE:20300331T030000
TZOFFSETFROM:+0200
TZOFFSETTO:+0100
TZNAME:Europe/Berlin CET
END:STANDARD
BEGIN:STANDARD
DTSTART:20301027T020000
RDATE:20310330T030000
TZOFFSETFROM:+0200
TZOFFSETTO:+0100
TZNAME:Europe/Berlin CET
END:STANDARD
BEGIN:DAYLIGHT
DTSTART:20250829T100000
RDATE:20251026T020000
TZOFFSETFROM:+0100
TZOFFSETTO:+0200
TZNAME:Europe/Berlin CEST
END:DAYLIGHT
BEGIN:DAYLIGHT
DTSTART:20260329T030000
RDATE:20261025T020000
TZOFFSETFROM:+0100
TZOFFSETTO:+0200
TZNAME:Europe/Berlin CEST
END:DAYLIGHT
BEGIN:DAYLIGHT
DTSTART:20270328T030000
RDATE:20271031T020000
TZOFFSETFROM:+0100
TZOFFSETTO:+0200
TZNAME:Europe/Berlin CEST
END:DAYLIGHT
BEGIN:DAYLIGHT
DTSTART:20280326T030000
RDATE:20281029T020000
TZOFFSETFROM:+0100
TZOFFSETTO:+0200
TZNAME:Europe/Berlin CEST
END:DAYLIGHT
BEGIN:DAYLIGHT
DTSTART:20290325T030000
RDATE:20291028T020000
TZOFFSETFROM:+0100
TZOFFSETTO:+0200
TZNAME:Europe/Berlin CEST
END:DAYLIGHT
BEGIN:DAYLIGHT
DTSTART:20300331T030000
RDATE:20301027T020000
TZOFFSETFROM:+0100
TZOFFSETTO:+0200
TZNAME:Europe/Berlin CEST
END:DAYLIGHT
END:VTIMEZONE
BEGIN:VEVENT
UID:73378286cbb4a04c55eead1f10ce5cc8
CATEGORIES:Sportabzeichen Walk
CREATED:20260401T102810
SUMMARY:2 Std. Walking-, Nordicwalking
LOCATION:: Parkplatz Peter-Cordes-Weg\, Uelzen
DESCRIPTION:Zur Teilnahme meldet euch bitte 24 Std. vor Terminbeginn an.\nAnmelden könn
 t ihr euch unter Diese E-Mail-Adresse ist vor Spambots geschützt! Zur Anzei
 ge muss JavaScript eingeschaltet sein!
				document.getElementById('cloakd0
 380a5e8fc8855630809641b288deeb').innerHTML = '';
				var prefix = '&#109;a'
  + 'i&#108;' + '&#116;o';
				var path = 'hr' + 'ef' + '=';
				var addyd03
 80a5e8fc8855630809641b288deeb = 'sp&#111;rt&#97;bz&#101;&#105;ch&#101;n' + 
 '&#64;';
				addyd0380a5e8fc8855630809641b288deeb = addyd0380a5e8fc88556308
 09641b288deeb + 'sp&#111;rtj&#111;ngl&#101;&#117;r&#101;' + '&#46;' + 'd&#1
 01;';
				var addy_textd0380a5e8fc8855630809641b288deeb = 'sp&#111;rt&#97;b
 z&#101;&#105;ch&#101;n' + '&#64;' + 'sp&#111;rtj&#111;ngl&#101;&#117;r&#101
 ;' + '&#46;' + 'd&#101;';document.getElementById('cloakd0380a5e8fc885563080
 9641b288deeb').innerHTML += '<a ' + path + '\'' + prefix + ':' + addyd0380a
 5e8fc8855630809641b288deeb + '\'>'+addy_textd0380a5e8fc8855630809641b288dee
 b+'';
		 oder direkt beim Prüfer.\nPrüfer : Loreen\n
X-ALT-DESC;FMTTYPE=text/html:<p>Zur Teilnahme meldet euch bitte 24 Std. vor Terminbeginn an.<br />Anmeld
 en könnt ihr euch unter <span id="cloakd0380a5e8fc8855630809641b288deeb">Di
 ese E-Mail-Adresse ist vor Spambots geschützt! Zur Anzeige muss JavaScript 
 eingeschaltet sein!</span><script type='text/javascript'>
				document.getE
 lementById('cloakd0380a5e8fc8855630809641b288deeb').innerHTML = '';
				var
  prefix = '&#109;a' + 'i&#108;' + '&#116;o';
				var path = 'hr' + 'ef' + '
 =';
				var addyd0380a5e8fc8855630809641b288deeb = 'sp&#111;rt&#97;bz&#101;
 &#105;ch&#101;n' + '&#64;';
				addyd0380a5e8fc8855630809641b288deeb = addy
 d0380a5e8fc8855630809641b288deeb + 'sp&#111;rtj&#111;ngl&#101;&#117;r&#101;
 ' + '&#46;' + 'd&#101;';
				var addy_textd0380a5e8fc8855630809641b288deeb 
 = 'sp&#111;rt&#97;bz&#101;&#105;ch&#101;n' + '&#64;' + 'sp&#111;rtj&#111;ng
 l&#101;&#117;r&#101;' + '&#46;' + 'd&#101;';document.getElementById('cloakd
 0380a5e8fc8855630809641b288deeb').innerHTML += '<a ' + path + '\'' + prefix
  + ':' + addyd0380a5e8fc8855630809641b288deeb + '\'>'+addy_textd0380a5e8fc8
 855630809641b288deeb+'<\/a>';
		</script>&nbsp;oder direkt beim Prüfer.</p>
 <p>Prüfer : Loreen</p>
DTSTAMP:20260423T170828
DTSTART;TZID=Europe/Berlin:20260830T100000
SEQUENCE:0
TRANSP:OPAQUE
END:VEVENT
END:VCALENDAR